BEGIN:VCALENDAR
VERSION:2.0
PRODID:-//ChamberMaster//Event Calendar 2.0//EN
METHOD:PUBLISH
X-PUBLISHED-TTL:P3D
REFRESH-INTERVAL:P3D
CALSCALE:GREGORIAN
BEGIN:VEVENT
DTSTART:20211106T160000Z
DTEND:20211106T210000Z
X-MICROSOFT-CDO-ALLDAYEVENT:FALSE
SUMMARY:CHAMPAGNE & CHOCOLATE HOLIDAY WALK 11/6/21
DESCRIPTION:Antioch's Champagne & Chocolate Holiday Walk  \n\nNovember 6\, 2021   SOLD OUT\n\nOUR CHECK-IN TIME WILL BE ANYTIME 11 AM TILL 12:30 PM AT THE OUTDOOR PATIO OF THE LODGE. THERE WILL NOT BE AN ASSIGNED TIME OTHER THAN THAT. PLEASE BRING MASKS TO RESPECT THE BUSINESSES THAT HAVE MASK REQUIREMENTS.\n\n \n\nA perfect way of beginning your Holiday Season! \n\nStroll throughout Antioch's quaint Downtown as your enjoy delicious Champagnes and Chocolates. Tickets are limited and must be bought in advance.\n\n\n\nChampagne and Chocolate make a wonderful combination that you will enjoy on Saturday\, November 6th\, 2021 from 11 am till 4 pm.\n\n\n\nParticipants must be 21 years or older.  Check-in will be at the back deck of the Lodge of Antioch located at 899 Main Street. There are parking lots behind the Lodge. Your tickets are considered reserved once payment is made. No paper tickets are given. You will give your name at check-in. Credit Cards are accepted online. Simply registering for tickets will not reserve them unless payment is made at that time.\n\n\n\nBesides enjoying your Champagnes & Chocolates\, you'll also receive a keepsake champagne flute\, a coupon for a complimentary bottle of Champagne\, and a bag to carry any chocolate goodies you are too full to eat!  We will have champagne sampling at various bars/restaurants/grocery where you'll enjoy multiple samples at each location!!!!  Enjoy your chocolate samples by visiting participating shops!!!  If one location is busy\, simply come back later!\n\n\n\nYour ticket purchase benefits Antioch's Holiday Programs!\n\n\n\nBuy tickets for your friends and family and begin your holiday shopping with Champagne and Chocolate in Downtown Antioch!   Tickets are $40 pp.  Sorry\, no refunds (may change name on ticket with 48 hours notice)\, must be 21+ to participate. Please bring ID.\n\n\n\nEveryone attending any event is at risk of exposure to Covid-19. This exists in all public places where people gather. Your registration for this event is your agreement that you voluntarily assume all risks related to exposure to Covid--19 at the Antioch Chamber's Champagne & Chocolate Walk Event in 2021.
X-ALT-DESC;FMTTYPE=text/html:<p><span style="color:#000000\;"><span style="font-size: 14px\;"><strong><span style="font-size:26px\;">Antioch&#39\;s Champagne&nbsp\;&amp\; Chocolate Holiday Walk</span>&nbsp\; </strong></span><br />\n<span style="font-size: 14px\;"><strong><span style="font-size:18px\;">November 6\, 2021&nbsp\;&nbsp\; </span></strong></span></span><span style="font-size:28px\;"><span style="color:#B22222\;"><strong>SOLD OUT</strong></span></span><br />\n<span style="color:#0000FF\;"><strong>OUR CHECK-IN TIME WILL </strong></span><span style="color:#800000\;"><strong><u>BE ANYTIME 11 AM TILL 12:30 PM</u> </strong></span><span style="color:#0000FF\;"><strong>AT THE OUTDOOR PATIO OF THE LODGE. THERE WILL NOT BE AN ASSIGNED TIME OTHER THAN THAT. PLEASE BRING MASKS TO RESPECT THE BUSINESSES THAT HAVE MASK REQUIREMENTS.</strong></span><br />\n<span style="font-size: 14px\;"><span style="color: rgb(47\, 79\, 79)\;"><strong>&nbsp\;</strong></span><br />\n<span style="color: rgb(128\, 0\, 0)\;"><strong>A perfect way of beginning your Holiday Season!&nbsp\;</strong></span></span><br />\nStroll throughout Antioch&#39\;s quaint Downtown as your enjoy delicious Champagnes and Chocolates. Tickets are limited and must be bought in advance.<br />\n<br />\nChampagne and Chocolate make a wonderful combination that you will enjoy on Saturday\, November 6th\, 2021 from 11 am till 4 pm.<br />\n<br />\n<em>Participants must be 21 years or older.&nbsp\; Check-in will be at the back deck of the Lodge of Antioch located at 899 Main Street. There are parking lots behind the Lodge. Your tickets are considered reserved once payment is made. No paper tickets are given. You will give your name at check-in. Credit Cards are accepted online. Simply registering for tickets will not reserve them unless payment is made at that time.</em><br />\n<br />\nBesides enjoying your Champagnes &amp\; Chocolates\, you&#39\;ll also receive a keepsake champagne flute\, a coupon for a complimentary bottle of Champagne\, and a bag to carry any chocolate goodies you are too full to eat!&nbsp\; We will have champagne sampling at various bars/restaurants/grocery where you&#39\;ll enjoy multiple samples at each location!!!!&nbsp\; Enjoy your chocolate samples by visiting participating shops!!!&nbsp\; If one location is busy\, simply come back later!<br />\n<br />\n<span style="color: rgb(178\, 34\, 34)\;">Your ticket purchase benefits Antioch&#39\;s Holiday Programs!</span><br />\n<br />\nBuy tickets for your friends and family and begin your holiday shopping with Champagne and Chocolate in Downtown Antioch!&nbsp\;&nbsp\; Tickets are $40 pp. <em>&nbsp\;Sorry\, no refunds (may change name on ticket with 48 hours notice)\, must be 21+ to participate. Please bring ID.</em><br />\n<br />\n<em>Everyone attending any event is at risk of exposure to Covid-19. This exists in all public places where people gather. Your registration for this event is your agreement that you voluntarily assume all risks related to exposure to Covid--19 at the Antioch Chamber&#39\;s Champagne &amp\; Chocolate Walk Event in 2021.</em></p>\n
LOCATION:Tickets are NOW SOLD OUT\, all tickets were purchased in advance of the 11/6/21 Walk. Credit Card payments must be made at time of ticket purchase. The C&C Walk Check-in is on Saturday November 6th and takes place on the back deck of the Lodge of Antioch\, located at 899 Main Street. Come between 11 am and 12:30 pm to check-in. Must be 21+ to participate\, no refunds\, please bring ID.
UID:e.1174.6991
SEQUENCE:3
DTSTAMP:20260423T032425Z
URL:https://cm.antiochchamber.org/events/details/champagne-chocolate-holiday-walk-11-6-21-6991
END:VEVENT

END:VCALENDAR
