BEGIN:VCALENDAR
VERSION:2.0
PRODID:-//ChamberMaster//Event Calendar 2.0//EN
METHOD:PUBLISH
X-PUBLISHED-TTL:P3D
REFRESH-INTERVAL:P3D
CALSCALE:GREGORIAN
BEGIN:VEVENT
DTSTART:20211118T233000Z
DTEND:20211119T030000Z
X-MICROSOFT-CDO-ALLDAYEVENT:FALSE
SUMMARY:GIRLS NIGHT OUT-TIPSY ELVES w/AFTER PARTY\, 11/18/21
DESCRIPTION:GIRLS NIGHT OUT EVENT\n\nTIPSY ELVES with AFTER PARTY\n\nThursday\, November 18th\, 2021\n\n\n\nLadies/Tipsy Elves- Put on your favorite Elf Hat and/or ugly sweater\,  grab your Friends and ride your sled down to Downtown Antioch\, IL on Thursday\, November 18th  for our Tipsy Elves Night Out with After Party Event on Thursday\, November 18th\, 2021.\nElves (sorry - Ladies\, 21+) that complete their paid registration online will receive bag with coupons!  All registrants enjoy contests throughout our participating shops along with holiday delights. Enter to win over $250 in prizes!  Enjoy your downtown Scavenger Hunt and Raffles from 5:30-7:30 pm\, Then the Tipsy Elves After Party is from 7:30-9:00pm at the NEW Rivalry Alehouse where you'll enjoy Pasta\, an Elf Potion and Salad! \n\n\n	Scavenger Hunt\n	Elf Potion at Rivalry\n	Sign up to win up to $250 in Raffle Prizes \n	Holiday Sittings (Free Photo Selfies)\n	Holiday Music Downtown\; and \n	After Party with Potion\,Pasta & Salad! \n\n\n\n\nContests include:\n\nTipsy Elf Hat Contest\, 1 Winner for each category:\n\n- Most Fun Hat\n\n- Prettiest Hat\n\n- Most contemporary (for the contemporary Elf)\n\n\n\nElf Scavenger Hunt\, 1 Winner\n\nVisit all participating Shops to collect your Scavenger Hunt Items for a chance to win!. Downtown Scavenger Hunt and Raffles from 5:30 pm till 7:30 pm.\n\n\n\nEnjoy the holiday ambiance and snacks as you browse through participating shops and complete our Scavenger Hunt. Each participating Shop has a raffle prize\, so fill out your chances to win! \n\n\n\n\n\nTIPSY ELF AFTER PARTY - Stay till the end to join us at our After Party which begins at 7:30 pm till 9:00 pm at the NEW Rivalry Alehouse in Downtown Antioch. (Side door entrance) (Must have TE designation to attend).  At the After Party you enjoy Pasta\, an Elf Portion and Salad. Cash Bar and Menu for other beverages and munchies.\n\nAdvance paid registration is required to enjoy this Fun Night!  You'll receive a   Bag filled with coupons\, information\, map and more!  Please be prepared to pay online with a credit card. At check-in simply give your name.  ALL CHECK-IN WILL BE THE OUTDOOR PATIO OF THE LODGE (899 Main St). Can purchase up to 10 tickets. Tickets are $21 pp\, must be 21+\, no refunds. Tickets are limited.\n\n\n\nCheck-in is between 5:30 pm and 6:15 pm\, bring your QR Code ticket issued in your confirmation email or give your name at check-in. If you are running late for check-in\, have a friend pick up your TE supplies at check-in.\n\n\n\nTHANK YOU TO OUR SPONSORS:\n\n    HEARTLAND BANK AND TRUST\n\n    RAYMOND CHEVROLET-KIA\n\n    RIVALRY ALEHOUSE\n\n\n\nYour tickets are considered reserved once payment is made. You will receive a QR Code in your email confirmation-please bring the QR Code (OPTIONAL) to check in to speed up the process or give your name.  Credit Cards are accepted online (Visa or MC/). Simply registering for tickets will not reserve them unless payment is made at that time.\n\n\n\nEveryone attending any event is at risk of exposure to Covid-19. This exists in all public places where people gather. Your registration for this event is your agreement that you voluntarily assume all risks related to exposure to Covid--19 at the Antioch Chamber's Tipsy Elves Night Out Event in 2021.
X-ALT-DESC;FMTTYPE=text/html:<p><strong><span style="font-family:comic sans ms\;"><span style="color:#800000\;"><span style="font-size:24px\;">GIRLS NIGHT OUT EVENT<br />\nTIPSY ELVES with AFTER PARTY</span></span></span><br />\n<span style="font-size:18px\;">Thursday\, November 18th\, 2021</span><br />\n<br />\nLadies/Tipsy Elves- </strong>Put on your favorite Elf Hat and/or ugly sweater\,&nbsp\; grab your Friends and ride your sled down to Downtown Antioch\, IL on Thursday\, November 18th&nbsp\; for <strong>our<span style="font-size:16px\;"><span style="font-family:comic sans ms\;"> Tipsy Elves Night Out with After Party Event on Thursday\, November 18th\, 2021</span></span></strong>.</p>\n<b><span style="font-size:14px\;"><span style="font-family:arial\;">Elves (sorry - Ladies\, 21+) that complete their paid registration online will receive bag with coupons!&nbsp\; All registrants enjoy contests throughout our participating shops along with holiday delights. Enter to win over $250 in prizes!&nbsp\; Enjoy your downtown Scavenger Hunt and Raffles from 5:30-7:30 pm\, Then the Tipsy Elves After Party is from 7:30-9:00pm at the NEW Rivalry Alehouse where you&#39\;ll enjoy Pasta\, an Elf Potion and Salad</span></span>!&nbsp\;</b>\n\n<ul>\n	<li><span style="font-family:comic sans ms\;"><span style="font-size:18px\;"><strong><span style="color:#800000\;">Scavenger Hunt</span></strong></span></span></li>\n	<li><span style="font-family:comic sans ms\;"><span style="font-size:18px\;"><strong><span style="color:#800000\;">Elf Potion at Rivalry</span></strong></span></span></li>\n	<li><span style="font-family:comic sans ms\;"><span style="font-size:18px\;"><strong><strong style="color: rgb(128\, 0\, 0)\;">Sign up to win up to $250 in Raffle Prizes&nbsp\;</strong></strong></span></span></li>\n	<li><span style="font-family:comic sans ms\;"><span style="font-size:18px\;"><strong><strong style="color: rgb(128\, 0\, 0)\;"><span style="color:#800000\;">Holiday Sittings (Free Photo Selfies)</span></strong></strong></span></span></li>\n	<li><span style="font-family:comic sans ms\;"><span style="font-size:18px\;"><strong><strong style="color: rgb(128\, 0\, 0)\;">Holiday Music Downtown\;&nbsp\;and&nbsp\;</strong></strong></span></span></li>\n	<li><span style="font-family:comic sans ms\;"><span style="font-size:18px\;"><strong><strong style="color: rgb(128\, 0\, 0)\;"><span style="color:#800000\;">After Party with Potion\,Pasta &amp\; Salad</span></strong></strong><strong style="color: rgb(128\, 0\, 0)\;"><span style="color:#800000\;"><strong>!&nbsp\;</strong></span></strong></span></span></li>\n</ul>\n\n<p><br />\n<span style="font-weight: bold\; font-size: 16px\;">Contests include:</span><br />\n<span style="font-weight: bold\; color: rgb(0\, 0\, 205)\;"><span style="font-size:18px\;">Tipsy Elf Hat Contest\, 1 Winner for each category:</span></span><br />\n<b>- Most Fun Hat</b><br />\n<b>- Prettiest</b> Hat<br />\n<b>- Most contemporary (for the contemporary Elf)</b><br />\n<br />\n<span style="font-weight: bold\; color: rgb(0\, 0\, 205)\;"><span style="font-size:18px\;">Elf Scavenger Hunt\, 1 Winner</span></span><br />\nVisit all participating Shops to collect your Scavenger Hunt Items for a chance to win!. Downtown Scavenger Hunt and Raffles from 5:30 pm till 7:30 pm.<br />\n<br />\nEnjoy the holiday ambiance and snacks as you browse through participating shops and complete our Scavenger Hunt. Each participating Shop has a raffle prize\, so fill out your chances to win!&nbsp\;<br />\n<br />\n<br />\n<span style="color:#0000CD\;"><span style="font-size:20px\;"><strong>TIPSY ELF AFTER PARTY</strong></span></span> - Stay till the end to join us at our After Party which begins at 7:30 pm till 9:00 pm at the NEW Rivalry Alehouse in Downtown Antioch. (Side door entrance) (Must have TE designation to attend).&nbsp\; At the After Party you enjoy Pasta\, an Elf Portion and Salad. Cash Bar and Menu for other beverages and munchies.<br />\nAdvance paid registration is required to enjoy this Fun Night!&nbsp\; You&#39\;ll receive a&nbsp\;&nbsp\; Bag filled with coupons\, information\, map and more!&nbsp\; Please be prepared to pay online with a credit card. At check-in simply give your name.&nbsp\; <strong>ALL CHECK-IN WILL BE THE OUTDOOR PATIO OF THE LODGE</strong> (899 Main St). Can purchase up to 10 tickets. Tickets are $21 pp\, must be 21+\, no refunds. Tickets are limited.<br />\n<br />\nCheck-in is between 5:30 pm and 6:15 pm\, bring your <strong>QR Code ticket issued in your confirmation email or give your name at check-in. If you are running late for check-in\, have a friend pick up your TE supplies at check-in.<br />\n<br />\nTHANK YOU TO OUR SPONSORS:</strong><br />\n<strong>&nbsp\;&nbsp\;<a href="http://www.hbtbank.com"><span style="color:#0000FF\;">&nbsp\; HEARTLAND BANK AND TRUST</span></a></strong><br />\n<strong>&nbsp\;&nbsp\;&nbsp\; <a href="http://www.raymondchevrolet.com"><span style="color:#0000FF\;">RAYMOND CHEVROLET-KIA<br />\n&nbsp\;&nbsp\;&nbsp\; RIVALRY ALEHOUSE</span></a></strong><br />\n<br />\n<em>Your tickets are considered reserved once payment is made. <strong>You will receive a QR Code in your email confirmation-please bring the QR Code (OPTIONAL) to check in to speed up the process or give your name.&nbsp\; </strong>Credit Cards are accepted online (Visa or MC/). Simply registering for tickets will not reserve them unless payment is made at that time.</em><br />\n<br />\n<em>Everyone attending any event is at risk of exposure to Covid-19. This exists in all public places where people gather. Your registration for this event is your agreement that you voluntarily assume all risks related to exposure to Covid--19 at the Antioch Chamber&#39\;s Tipsy Elves Night Out Event in 2021.</em></p>\n
LOCATION:Downtown Antioch\, IL at participating shops
UID:e.1174.6826
SEQUENCE:3
DTSTAMP:20260423T032501Z
URL:https://cm.antiochchamber.org/events/details/girls-night-out-tipsy-elves-w-after-party-11-18-21-6826
END:VEVENT

END:VCALENDAR
