BEGIN:VCALENDAR
VERSION:2.0
PRODID:-//ChamberMaster//Event Calendar 2.0//EN
METHOD:PUBLISH
X-PUBLISHED-TTL:P3D
REFRESH-INTERVAL:P3D
CALSCALE:GREGORIAN
BEGIN:VEVENT
DTSTART:20160715T180000Z
DTEND:20160715T200000Z
X-MICROSOFT-CDO-ALLDAYEVENT:FALSE
SUMMARY:Special Needs Carnival Rides @ Taste of Summer 7/15/16\, 1-3 pm
DESCRIPTION:Antioch's Taste of Summer Carnival Special Needs Family Day is Friday\, July 15th\, 2016 from 1:00 pm till 3:00 pm in Downtown Antioch. This is an opportunity for those with a special needs family member to join them in a few hours of fun without the worries. These hours are dedicated ONLY to those with special needs and their accompanying families.\n\n\n\nAll children and adults with disabilities MUST BE ACCOMPANIED ON RIDES BY A FAMILY MEMBER/CAREGIVER WHO IS AT LEAST 18 YEARS OLD. \n\n\n\nWristbands will be issued to each participant. Space is limited so please register online before 7/11/16.  The Taste of Summer Carnival will be held off of Main Street in Downtown Antioch.\n\n\n\nTribune-News Sun Article on Special Needs Carnival.
X-ALT-DESC;FMTTYPE=text/html:<span style="font-size:16px\;"><span style="color:#800000\;"><strong>Antioch&#39\;s Taste of Summer Carnival Special Needs Family Day</strong></span></span> is Friday\, July 15th\, 2016 from 1:00 pm till 3:00 pm in Downtown Antioch. This is an opportunity for those with a special needs family member to join them in a few hours of fun without the worries. These hours are dedicated ONLY to those with special needs and their accompanying families.<br />\n<br />\nAll children and adults with disabilities MUST BE ACCOMPANIED ON RIDES BY A FAMILY MEMBER/CAREGIVER WHO IS AT LEAST 18 YEARS OLD.&nbsp\;<br />\n<br />\nWristbands will be issued to each participant. Space is limited so please register online before 7/11/16. &nbsp\;The Taste of Summer Carnival will be held off of Main Street in Downtown Antioch.<br />\n<br />\n<strong><a href="http://www.chicagotribune.com/suburbs/lake-county-news-sun/news/ct-lns-antioch-special-needs-carnival-st-0610-20160609-story.html">Tribune-News Sun Article on Special Needs Carnival</a></strong>.
LOCATION:Antioch's Taste of Summer Carnival Special Needs Rides are in the large parking lot off which is one block east of Main Street (Rte 83) in Downtown Antioch. There is limited parking at this location\, to enter take Main Street to Park Avenue\, then to Skidmore. Please park near bandshell large parking lot.
UID:e.1174.4412
SEQUENCE:3
DTSTAMP:20260423T093944Z
URL:https://cm.antiochchamber.org/events/details/special-needs-carnival-rides-taste-of-summer-7-15-16-1-3-pm-07-15-2016-4412
END:VEVENT

END:VCALENDAR
