BEGIN:VCALENDAR
VERSION:2.0
PRODID:-//ChamberMaster//Event Calendar 2.0//EN
METHOD:PUBLISH
X-PUBLISHED-TTL:P3D
REFRESH-INTERVAL:P3D
CALSCALE:GREGORIAN
BEGIN:VEVENT
DTSTART:20170721T180000Z
DTEND:20170721T200000Z
X-MICROSOFT-CDO-ALLDAYEVENT:FALSE
SUMMARY:Special Needs Carnival Rides @ Taste of Summer 7/21/17\, 1-3 pm
DESCRIPTION:Antioch's Taste of Summer Carnival Special Needs Family Day is Friday\, July 21st\, 2017 from 1:00 pm till 3:00 pm in Downtown Antioch. This is an opportunity for those with a special needs family member to join them in a few hours of fun without the worries. These hours are dedicated ONLY to those with special needs and their accompanying families.Each family will receive up to 4 wristbands\, PLUS a coupon for a Hot Dog\, Chips and Soda! \n\n\n\nIF SIGN UP IS CLOSED\, PLEASE JOIN US ANYWAY...ALL ARE WELCOME! COME TO THE CARNIVAL TICKET BOOTH IN DOWNTOWN ANTIOCH (ORCHARD & MAIN).\n\n\n\nAll children and adults with disabilities MUST BE ACCOMPANIED ON RIDES BY A FAMILY MEMBER/CAREGIVER WHO IS AT LEAST 18 YEARS OLD. \n\n\n\nWristbands will be issued to each participant. Space is limited so please register online before 7/17/17.  The Taste of Summer Carnival will be held off of Main Street in Downtown Antioch.\n\n\n\nSponsored by:\n\nThe Jack Mehaffey Family\n\nAll Around Amusements\n\nAntioch Chamber of Commerce\n\nHeartland Bank\n\n\n\nTribune-News Sun Article on Special Needs Carnival.
X-ALT-DESC;FMTTYPE=text/html:<span style="font-size:16px\;"><span style="color:#800000\;"><strong>Antioch&#39\;s Taste of Summer Carnival Special Needs Family Day</strong></span></span> is Friday\, July 21st\, 2017 from 1:00 pm till 3:00 pm in Downtown Antioch. This is an opportunity for those with a special needs family member to join them in a few hours of fun without the worries. These hours are dedicated ONLY to those with special needs and their accompanying families.Each family will receive up to 4 wristbands\, PLUS a coupon for a Hot Dog\, Chips and Soda!&nbsp\;<br />\n<br />\n<span style="color:#0000FF\;"><strong>IF SIGN UP IS CLOSED\,</strong></span><span style="color:#800000\;"><strong> PLEASE JOIN US ANYWAY.</strong></span><span style="color:#0000FF\;"><strong>..ALL ARE WELCOME! COME TO THE CARNIVAL TICKET BOOTH IN DOWNTOWN ANTIOCH (ORCHARD &amp\; MAIN).</strong></span><br />\n<br />\nAll children and adults with disabilities MUST BE ACCOMPANIED ON RIDES BY A FAMILY MEMBER/CAREGIVER WHO IS AT LEAST 18 YEARS OLD.&nbsp\;<br />\n<br />\nWristbands will be issued to each participant. Space is limited so please register online before 7/17/17. &nbsp\;The Taste of Summer Carnival will be held off of Main Street in Downtown Antioch.<br />\n<br />\nSponsored by:<br />\n<strong>The Jack Mehaffey Family<br />\nAll Around Amusements<br />\nAntioch Chamber of Commerce<br />\nHeartland Bank</strong><br />\n<br />\n<strong><a href="http://www.chicagotribune.com/suburbs/lake-county-news-sun/news/ct-lns-antioch-special-needs-carnival-st-0610-20160609-story.html">Tribune-News Sun Article on Special Needs Carnival</a></strong>.
LOCATION:PARKING AREA FOR SPECIAL NEEDS-Antioch's Taste of Summer Carnival Special Needs Rides are in the large parking lot off which is one block east of Main Street (Rte 83) in Downtown Antioch. There is limited parking at this location\, to enter take Main Street to Park Avenue\, then to Skidmore. Please park near bandshell large parking lot\, we have volunteers there to help direct you.
UID:e.1174.4926
SEQUENCE:3
DTSTAMP:20260423T090536Z
URL:https://cm.antiochchamber.org/events/details/special-needs-carnival-rides-taste-of-summer-7-21-17-1-3-pm-4926
END:VEVENT

END:VCALENDAR
