BEGIN:VCALENDAR
VERSION:2.0
PRODID:-//ChamberMaster//Event Calendar 2.0//EN
METHOD:PUBLISH
X-PUBLISHED-TTL:P3D
REFRESH-INTERVAL:P3D
CALSCALE:GREGORIAN
BEGIN:VEVENT
DTSTART;VALUE=DATE:20211015
DTEND;VALUE=DATE:20211128
TRANSP:TRANSPARENT
X-MICROSOFT-CDO-ALLDAYEVENT:TRUE
SUMMARY:Uncover Antioch - Digital Scavenger Hunt
DESCRIPTION:UNCOVER ANTIOCH: Digital Scavenger Hunt\n\n\n\n\n\nBeginning October 15th\, 2021\, explore Antioch's history\, participate in shop local challengers\, and win prizes - all through an interactive app! Residents\, businesses\, and visitors can track their own success through the Eventzee app.  The more you explore and uncover\, the more points you'll earn.  \n\n\n\nThis month-long scavenger hunt will feature the incredible stories of Antioch people and places that are just waiting to be told. From the Pottawatomie tribes that inhabited this land until the 1800s\, to the go-to prohibition hangouts for Bugs Moran\, to the legendary ghost hauntings\, no legendary stone will be left unturned. Whether playing throughout the month or just a day\, players will uncover clues throughout the Village\, answer trivia questions\, shop locally\, and win prizes. Residents\, businesses\, and visitors can track their own success through the  Eventzee app. The more you explore and uncover\, the more points you'll earn.\n\n\n\nTo learn more and play\, visit:\n\nhttp://www.antioch.il.gov/uncover-antioch
X-ALT-DESC;FMTTYPE=text/html:<span style="font-family:verdana\;"><span style="font-size:22px\;"><span style="color:#000080\;"><strong>UNCOVER ANTIOCH: Digital Scavenger Hunt</strong></span></span></span><br />\n<br />\n<br />\n<span style="font-family:verdana\;"><span style="font-size:14px\;">Beginning October 15th\, 2021\, explore Antioch&#39\;s history\, participate in shop local challengers\, and win prizes - all through an interactive app! Residents\, businesses\, and visitors can track their own success through the Eventzee app.&nbsp\; The more you explore and uncover\, the more points you&#39\;ll earn.&nbsp\; </span></span><br />\n<br />\n<span style="font-size:14px\;"><span style="font-family:verdana\;">This month-long scavenger hunt will feature the incredible stories of Antioch people and places that are just waiting to be told. From the Pottawatomie tribes that inhabited this land until the 1800s\, to the go-to prohibition hangouts for Bugs Moran\, to the legendary ghost hauntings\, no legendary stone will be left unturned. Whether playing throughout the month or just a day\, players will uncover clues throughout the Village\, answer trivia questions\, shop locally\, and win prizes. Residents\, businesses\, and visitors can track their own success through the&nbsp\; Eventzee app. The more you explore and uncover\, the more points you&rsquo\;ll earn.</span></span><br />\n<br />\n<span style="font-size:14px\;"><span style="font-family:verdana\;">To learn more and play\, visit:<br />\n<strong><u><a href="http://www.antioch.il.gov/uncover-antioch"><span style="color:#0000FF\;">http://www.antioch.il.gov/uncover-antioch</span></a></u></strong></span></span>
LOCATION:Digital Scavenger Hunt Visit: http://www.antioch.il.gov/uncover-antioch
UID:e.1174.7265
SEQUENCE:3
DTSTAMP:20260423T033124Z
URL:https://cm.antiochchamber.org/events/details/uncover-antioch-digital-scavenger-hunt-7265
END:VEVENT

END:VCALENDAR
